BEGIN:VCALENDAR
VERSION:2.0
PRODID:-//Plum Village UK - ECPv6.15.19//NONSGML v1.0//EN
CALSCALE:GREGORIAN
METHOD:PUBLISH
X-ORIGINAL-URL:https://sandpit.plumvillage.uk
X-WR-CALDESC:Events for Plum Village UK
REFRESH-INTERVAL;VALUE=DURATION:PT1H
X-Robots-Tag:noindex
X-PUBLISHED-TTL:PT1H
BEGIN:VTIMEZONE
TZID:Europe/London
BEGIN:DAYLIGHT
TZOFFSETFROM:+0000
TZOFFSETTO:+0100
TZNAME:BST
DTSTART:20240331T010000
END:DAYLIGHT
BEGIN:STANDARD
TZOFFSETFROM:+0100
TZOFFSETTO:+0000
TZNAME:GMT
DTSTART:20241027T010000
END:STANDARD
BEGIN:DAYLIGHT
TZOFFSETFROM:+0000
TZOFFSETTO:+0100
TZNAME:BST
DTSTART:20250330T010000
END:DAYLIGHT
BEGIN:STANDARD
TZOFFSETFROM:+0100
TZOFFSETTO:+0000
TZNAME:GMT
DTSTART:20251026T010000
END:STANDARD
BEGIN:DAYLIGHT
TZOFFSETFROM:+0000
TZOFFSETTO:+0100
TZNAME:BST
DTSTART:20260329T010000
END:DAYLIGHT
BEGIN:STANDARD
TZOFFSETFROM:+0100
TZOFFSETTO:+0000
TZNAME:GMT
DTSTART:20261025T010000
END:STANDARD
END:VTIMEZONE
BEGIN:VEVENT
DTSTART;TZID=Europe/London:20250720T110000
DTEND;TZID=Europe/London:20250720T153000
DTSTAMP:20260421T125733
CREATED:20250515T185442Z
LAST-MODIFIED:20251124T110533Z
UID:65720-1753009200-1753025400@sandpit.plumvillage.uk
SUMMARY:Family Picnic - Battersea Park London
DESCRIPTION:We invite you to join us for our all-ages mindful picnic. We will be gathering at the Peace Pagoda\, located by river side\, at 11.00am and we aim to finish around 3.00-3.30pm\, but you are welcome to join us at any point of the programme below. \nPlease remember to bring a pack lunch and drinks for your family\, and a picnic blanket. If the weather forecast is not favourable\, we will email everybody to confirm whether we’re going ahead or not\, so please check your email inbox the night before. \nSchedule\n11.00 Meeting at the Peace Pagoda\n12.00 Walking meditation by the river\, walking towards the cafe\n1pm Lunch by Pear Tree Cafe and near Playground\n2pm Games\n3.00pm Closing circle \nTransport:\nNearest tube station: Battersea Power station\nRail station: Battersea Park\nParking for cars available with payment. \nDietary needs and allergies\nOur sangha has a vegetarian/vegan orientation\, so if possible please bring vegetarian/vegan food. With regards to sharing food with children (either during shared snack time\, or we are aware that children sometimes share snacks spontaneously) could we please ask parents to keep an eye on this.  Always check with a child’s parent whether they are allowed to share food or snacks and what they can have. One of our young members has a severe intolerance to gluten. \nWe look forward to practicing together again. \nA bow and smile\, \nFamily Sangha \n  \nJoining\nIf you intend to come\, please RSVP by emailing  familysanghalondon@gmail.com so we can let you know if there are any changes to the schedule. \nMain image Battersea Park Peace Pagoda by George Johnson
URL:https://sandpit.plumvillage.uk/event/family-picnic-battersea-park/
CATEGORIES:Day Of Mindfulness
ATTACH;FMTTYPE=:
END:VEVENT
BEGIN:VEVENT
DTSTART;TZID=Europe/London:20250720T110000
DTEND;TZID=Europe/London:20250720T153000
DTSTAMP:20260421T125733
CREATED:20250515T185442Z
LAST-MODIFIED:20250515T185442Z
UID:68778-1753009200-1753025400@sandpit.plumvillage.uk
SUMMARY:Family Picnic - Battersea Park London
DESCRIPTION:We invite you to join us for our all-ages mindful picnic. We will be gathering at the Peace Pagoda\, located by river side\, at 11.00am and we aim to finish around 3.00-3.30pm\, but you are welcome to join us at any point of the programme below. \nPlease remember to bring a pack lunch and drinks for your family\, and a picnic blanket. If the weather forecast is not favourable\, we will email everybody to confirm whether we’re going ahead or not\, so please check your email inbox the night before. \nSchedule\n11.00 Meeting at the Peace Pagoda\n12.00 Walking meditation by the river\, walking towards the cafe\n1pm Lunch by Pear Tree Cafe and near Playground\n2pm Games\n3.00pm Closing circle \nTransport:\nNearest tube station: Battersea Power station\nRail station: Battersea Park\nParking for cars available with payment. \nDietary needs and allergies\nOur sangha has a vegetarian/vegan orientation\, so if possible please bring vegetarian/vegan food. With regards to sharing food with children (either during shared snack time\, or we are aware that children sometimes share snacks spontaneously) could we please ask parents to keep an eye on this.  Always check with a child’s parent whether they are allowed to share food or snacks and what they can have. One of our young members has a severe intolerance to gluten. \nWe look forward to practicing together again. \nA bow and smile\, \nFamily Sangha \n  \nJoining\nIf you intend to come\, please RSVP by emailing  familysanghalondon@gmail.com so we can let you know if there are any changes to the schedule. \nMain image Battersea Park Peace Pagoda by George Johnson
URL:https://sandpit.plumvillage.uk/event/family-picnic-battersea-park-2/
CATEGORIES:Day Of Mindfulness
ATTACH;FMTTYPE=:
END:VEVENT
END:VCALENDAR