BEGIN:VCALENDAR
VERSION:2.0
PRODID:-//Plum Village UK - ECPv6.15.19//NONSGML v1.0//EN
CALSCALE:GREGORIAN
METHOD:PUBLISH
X-WR-CALNAME:Plum Village UK
X-ORIGINAL-URL:https://sandpit.plumvillage.uk
X-WR-CALDESC:Events for Plum Village UK
REFRESH-INTERVAL;VALUE=DURATION:PT1H
X-Robots-Tag:noindex
X-PUBLISHED-TTL:PT1H
BEGIN:VTIMEZONE
TZID:Europe/London
BEGIN:DAYLIGHT
TZOFFSETFROM:+0000
TZOFFSETTO:+0100
TZNAME:BST
DTSTART:20240331T010000
END:DAYLIGHT
BEGIN:STANDARD
TZOFFSETFROM:+0100
TZOFFSETTO:+0000
TZNAME:GMT
DTSTART:20241027T010000
END:STANDARD
BEGIN:DAYLIGHT
TZOFFSETFROM:+0000
TZOFFSETTO:+0100
TZNAME:BST
DTSTART:20250330T010000
END:DAYLIGHT
BEGIN:STANDARD
TZOFFSETFROM:+0100
TZOFFSETTO:+0000
TZNAME:GMT
DTSTART:20251026T010000
END:STANDARD
BEGIN:DAYLIGHT
TZOFFSETFROM:+0000
TZOFFSETTO:+0100
TZNAME:BST
DTSTART:20260329T010000
END:DAYLIGHT
BEGIN:STANDARD
TZOFFSETFROM:+0100
TZOFFSETTO:+0000
TZNAME:GMT
DTSTART:20261025T010000
END:STANDARD
END:VTIMEZONE
BEGIN:VEVENT
DTSTART;TZID=Europe/London:20250606T193000
DTEND;TZID=Europe/London:20250607T170000
DTSTAMP:20260421T142844
CREATED:20250402T144201Z
LAST-MODIFIED:20250402T144201Z
UID:64466-1749238200-1749315600@sandpit.plumvillage.uk
SUMMARY:Monastic-led Mindfulness Festival at Findhorn
DESCRIPTION: Findhorn Bay\, photo by Mark Richards Aurora Imaging\n \nFri 6 Jun | 7:30 – 9:30 PM\nInteractive Evening with Plum Village Monastics\nDharma teachings\, meditations\, Q&A\, songs. \nSat 7 Jun | 10 AM – 5 PM\nDay of Mindfulness with Plum Village Monastics\nThe programme includes guided sitting and walking meditations\, a dharma teaching\, mindful lunch\, deep relaxation\, sharing time\, Q&A and songs. \nJoin us for one or both – and bring a friend. \n  \nWe need harmony\, we need peace. Practising mindfulness in each moment of our daily lives\, we can cultivate our own peace. With clarity\, determination\, and patience – the fruits of meditation – we can sustain a life of action and be real instruments of peace.\n— Thich Nhat Hanh \n  \nThe wisdom of Zen Master Thich Nhat Hanh teaches us to find a sense of peace within ourselves and serenity in the face of suffering. In a supportive community of like-minded people and supported by six monastics from Plum Village\, Thich Nhat Hanh’s Zen Centre in France\, together we will experience developing more peace and stability. \n\nFindhorn Universal Hall\, photo by Graham Meltzer
URL:https://sandpit.plumvillage.uk/event/monastic-led-mindfulness-festival-at-findhorn/
CATEGORIES:Day Of Mindfulness,Talk
ATTACH;FMTTYPE=:
END:VEVENT
END:VCALENDAR