BEGIN:VCALENDAR
VERSION:2.0
PRODID:-//Plum Village UK - ECPv6.15.19//NONSGML v1.0//EN
CALSCALE:GREGORIAN
METHOD:PUBLISH
X-WR-CALNAME:Plum Village UK
X-ORIGINAL-URL:https://sandpit.plumvillage.uk
X-WR-CALDESC:Events for Plum Village UK
REFRESH-INTERVAL;VALUE=DURATION:PT1H
X-Robots-Tag:noindex
X-PUBLISHED-TTL:PT1H
BEGIN:VTIMEZONE
TZID:Europe/London
BEGIN:DAYLIGHT
TZOFFSETFROM:+0000
TZOFFSETTO:+0100
TZNAME:BST
DTSTART:20240331T010000
END:DAYLIGHT
BEGIN:STANDARD
TZOFFSETFROM:+0100
TZOFFSETTO:+0000
TZNAME:GMT
DTSTART:20241027T010000
END:STANDARD
BEGIN:DAYLIGHT
TZOFFSETFROM:+0000
TZOFFSETTO:+0100
TZNAME:BST
DTSTART:20250330T010000
END:DAYLIGHT
BEGIN:STANDARD
TZOFFSETFROM:+0100
TZOFFSETTO:+0000
TZNAME:GMT
DTSTART:20251026T010000
END:STANDARD
BEGIN:DAYLIGHT
TZOFFSETFROM:+0000
TZOFFSETTO:+0100
TZNAME:BST
DTSTART:20260329T010000
END:DAYLIGHT
BEGIN:STANDARD
TZOFFSETFROM:+0100
TZOFFSETTO:+0000
TZNAME:GMT
DTSTART:20261025T010000
END:STANDARD
END:VTIMEZONE
BEGIN:VEVENT
DTSTART;TZID=Europe/London:20250523T180000
DTEND;TZID=Europe/London:20250524T170000
DTSTAMP:20260421T160830
CREATED:20250402T142536Z
LAST-MODIFIED:20250402T142536Z
UID:64458-1748023200-1748106000@sandpit.plumvillage.uk
SUMMARY:Monastic Events in Edinburgh
DESCRIPTION:The Friday and Saturday events are complementary but independent – join either or both.  \n  \nAn Evening of Teachings & Reflections\nFri 23 May | 7:00 – 9:00 PM \nSt Cuthbert’s\, 5 Lothian Road\, EH1 2EP\nSuggested donation £10-£15\nDoors at 6.30pm \nStart the weekend with an evening of teachings and personal insights from the monastics. Drawing on lived experience and Buddhist psychology\, they will explore how mindfulness can help us find joy and stability amidst uncertainty\, and how we can stay connected to ourselves and others in times of challenge. \nFriday info and booking \n  \nA Day of Mindfulness in Action\nSat 24 May | 10:00 AM – 5:00 PM \nEdinburgh University Chaplaincy\, 1 Bristo Square\, EH8 9AL\nSuggested donation £25-£30 \nSpend the day immersed in guided practice and embodied learning. The programme includes: \n• Sitting and walking meditation\n• Deep relaxation\n• Mindful eating\n• Small-group workshops\n• Practical tools for integrating mindfulness into study\, work\, and daily life \nWhether you’re feeling overwhelmed\, curious\, or simply seeking deeper connection\, this day offers space to pause\, reflect\, and reconnect with what matters most. \nSaturday info and booking \n  \nWho is it for?\nOpen to everyone — including students\, researchers\, professionals\, and experienced mindfulness practitioners. No prior meditation experience is necessary. \n  \nWhat to Bring\nComfortable clothing; a meditation cushion or mat if you prefer (chairs will be provided) \nPlease bring a thermos of your favorite tea or coffee\, or a cold non-alcoholic drink as well as a packed vegetarian or vegan lunch for the day of mindfulness.
URL:https://sandpit.plumvillage.uk/event/monastic-events-in-edinburgh/
CATEGORIES:Day Of Mindfulness,Talk
ATTACH;FMTTYPE=:
END:VEVENT
END:VCALENDAR